BEGIN:VCALENDAR
VERSION:2.0
PRODID:-//Plone.org//NONSGML plone.app.event//EN
X-WR-TIMEZONE:Brazil/East
BEGIN:VEVENT
SUMMARY:1ª Sessão Solene de 2023
DTSTART;TZID=Brazil/East;VALUE=DATE-TIME:20230507T200000
DTSTAMP;VALUE=DATE-TIME:20260419T165132Z
UID:6258dd203d544af38275fc4793f073e2@www.galia.sp.leg.br
CONTACT:Câmara Municipal\, 14 3274-1513\, camara@galia.sp.leg.br
CREATED;VALUE=DATE-TIME:20230511T185534Z
DESCRIPTION:1ª Sessão Solene da 3ª sessão legislativa - 18ª Legislatu
 ra
LAST-MODIFIED;VALUE=DATE-TIME:20230623T162252Z
LOCATION:Plenário Sr. Isaac Garib Nettoa
URL:https://www.galia.sp.leg.br/institucional/eventos/1a-sessao-solene-de-
 2023
END:VEVENT
BEGIN:VTIMEZONE
TZID:Brazil/East
X-LIC-LOCATION:Brazil/East
BEGIN:STANDARD
DTSTART;VALUE=DATE-TIME:20230225T230000
TZNAME:BRT
TZOFFSETFROM:-0200
TZOFFSETTO:-0300
END:STANDARD
END:VTIMEZONE
END:VCALENDAR
